BEGIN:VCALENDAR
VERSION:2.0
PRODID:-//LA TRI CLUB//NONSGML v1.0//EN
BEGIN:VEVENT
UID:654@www.triclubsandiego.org
DTSTAMP:20260422T135343
ORGANIZER;CN=Yumi Kobayashi:MAILTO:vicepresident@triclubsandiego.org
DTSTART:20260423T173000
SUMMARY:TCSD Social & Wildflower Q&A
URL:https://www.triclubsandiego.org/calendar/events/654-tcsd-social-wildflower-q-a/
DESCRIPTION:Get ready for an exciting evening at our newest sponsor\, Alesmith Brewing! Join us for a TCSD Social and a Wildflower Q&A. No RSVP needed\, just come and have fun! Festivities start at 5:30pm.
END:VEVENT
END:VCALENDAR